Workbook

Sheet Vorgaben
A1: Vorgaben werden auf auf alle Tabellenblätter übertragen
A3: Anmeldezeiten | B3: Datum | C3: Startzeiten Licht | D3: Startzeiten Luft
B4: 45935 | C4: 0.54166667 | D4: 0.75
B5: 45936 | C5: 0.5625 | D5: 0.77083333
B6: 45937 | C6: 0.58333333 | D6: 0.79166667
B7: 45938 | C7: 0.75 | D7: 0.8125
B8: 45939 | C8: 0.75 | D8: 0.83333333
C9: 0.64583333 | D9: 0.85416667
C10: nur Dienstag | D10: ↓ Bambini Deinstag
C11: 0.6875 | D11: 0.6875
C12: 0.70833333 | D12: 0.70833333
C13: 0.72916667 | D13: 0.72916667
C14: 0.75
A16: Wievielte | B16: 33
A17: Zeitraum | B17: vom So. 05. bis Do. 09. Oktober 2025
A19: Klassen | B19: Klasseneinteilung | E19: Einzel | G19: Mannschaft
B20: Klasse | C20: Alter | D20: Anschlag | E20: Schüsse | F20: Startgeld | G20: Schüsse | H20: Startgeld
B21: A Bambini Licht | C21: <12 | D21: aufgelegt | E21: 8 | F21: 1 | G21: 10 | H21: 4
B22: B Schüler LG | C22: <16 | D22: aufgelegt | E22: 8 | F22: 2 | G22: 10 | H22: 8
B23: C Jungschützen LG | C23: <21 | D23: Freihand | E23: 8 | F23: 2
B24: D Schützen LG | C24: >16 | D24: Freihand | E24: 8 | F24: 2 | G24: 10 | H24: 8
B25: E Offen LG | C25: >16 | D25: aufgelegt | E25: 8 | F25: 2 | G25: 10 | H25: 8
B26: F Senioren LG | C26: >60 | D26: aufgelegt | E26: 8 | F26: 2 | G26: 10 | H26: 8
B27: H Pistole LP | C27: >16 | D27: Freihand | E27: 8 | F27: 2 | G27: 10 | H27: 8
B28: R Rudi-Kleefisch LG | C28: offen | D28: aufgelegt | E28: 8 | F28: 2
A31: Schirmherr | B31: Günther Hieke
A32: Amt | B32: Diözesanschießmeister Aachen im BHDS
A34: Emailadresse | B34: info@schuetzen-roedingen.de
A36: Adresszeile 1 | B36: St. Sebastianus Schützenbruderschaft e.V.
A37: Adresszeile 2 | B37: Brudermeister Thorsten Hompesch
A38: Adresszeile 3 | B38: Lisztstraße 5
A39: Adresszeile 4 | B39: 52445 Titz-Rödingen

Sheet Einzel
B1: Datum | C1: Startzeiten
B2: =IF(Vorgaben!B4<>"",Vorgaben!B4,"") -> 45935 | C2: =IF(Vorgaben!D4<>"",Vorgaben!D4,"") -> 0.75
B3: =IF(Vorgaben!B5<>"",Vorgaben!B5,"") -> 45936 | C3: =IF(Vorgaben!D5<>"",Vorgaben!D5,"") -> 0.77083333
B4: =IF(Vorgaben!B6<>"",Vorgaben!B6,"") -> 45937 | C4: =IF(Vorgaben!D6<>"",Vorgaben!D6,"") -> 0.79166667
B5: =IF(Vorgaben!B7<>"",Vorgaben!B7,"") -> 45938 | C5: =IF(Vorgaben!D7<>"",Vorgaben!D7,"") -> 0.8125
B6: =IF(Vorgaben!B8<>"",Vorgaben!B8,"") -> 45939 | C6: =IF(Vorgaben!D8<>"",Vorgaben!D8,"") -> 0.83333333
B7: =IF(Vorgaben!B9<>"",Vorgaben!B9,"") | C7: =IF(Vorgaben!D9<>"",Vorgaben!D9,"") -> 0.85416667
B8: =IF(Vorgaben!B10<>"",Vorgaben!B10,"") | C8: =IF(Vorgaben!D10<>"",Vorgaben!D10,"") -> ↓ Bambini Deinstag
B9: =IF(Vorgaben!B11<>"",Vorgaben!B11,"") | C9: =IF(Vorgaben!D11<>"",Vorgaben!D11,"") -> 0.6875
B10: =IF(Vorgaben!B12<>"",Vorgaben!B12,"") | C10: =IF(Vorgaben!D12<>"",Vorgaben!D12,"") -> 0.70833333
B11: =IF(Vorgaben!B13<>"",Vorgaben!B13,"") | C11: =IF(Vorgaben!D13<>"",Vorgaben!D13,"") -> 0.72916667
B12: =IF(Vorgaben!B14<>"",Vorgaben!B14,"") | C12: =IF(Vorgaben!D14<>"",Vorgaben!D14,"")
A14: St. Sebastianus-Schützenbruderschaft Rödingen e.V.
B16: =Vorgaben!A31 -> Schirmherr | C16: =Vorgaben!B31 -> Günther Hieke | E16: =Vorgaben!B16 -> 33
B17: =Vorgaben!B32 -> Diözesanschießmeister Aachen im BHDS
E18: St. Cornelius - Schießen
A19: Meldebogen bitte senden an: | E19: =Vorgaben!B17 -> vom So. 05. bis Do. 09. Oktober 2025 | H19: Rödingen
D20: Klasseneinteilung: Einzel
A21: =Vorgaben!B34 -> info@schuetzen-roedingen.de | D21: Klasse | E21: Alter | F21: Anschlag | G21: Schüsse | H21: Startgeld
D22: =Vorgaben!B21 -> A Bambini Licht | E22: =Vorgaben!C21 -> <12 | F22: =Vorgaben!D21 -> aufgelegt | G22: =Vorgaben!E21 -> 8 | H22: =Vorgaben!F21 -> 1
A23: oder | D23: =Vorgaben!B22 -> B Schüler LG | E23: =Vorgaben!C22 -> <16 | F23: =Vorgaben!D22 -> aufgelegt | G23: =Vorgaben!E22 -> 8 | H23: =Vorgaben!F22 -> 2
D24: =Vorgaben!B23 -> C Jungschützen LG | E24: =Vorgaben!C23 -> <21 | F24: =Vorgaben!D23 -> Freihand | G24: =Vorgaben!E23 -> 8 | H24: =Vorgaben!F23 -> 2
A25: =Vorgaben!B36 -> St. Sebastianus Schützenbruderschaft e.V. | D25: =Vorgaben!B24 -> D Schützen LG | E25: =Vorgaben!C24 -> >16 | F25: =Vorgaben!D24 -> Freihand | G25: =Vorgaben!E24 -> 8 | H25: =Vorgaben!F24 -> 2
A26: =Vorgaben!B37 -> Brudermeister Thorsten Hompesch | D26: =Vorgaben!B25 -> E Offen LG | E26: =Vorgaben!C25 -> >16 | F26: =Vorgaben!D25 -> aufgelegt | G26: =Vorgaben!E25 -> 8 | H26: =Vorgaben!F25 -> 2
A27: =Vorgaben!B38 -> Lisztstraße 5 | D27: =Vorgaben!B26 -> F Senioren LG | E27: =Vorgaben!C26 -> >60 | F27: =Vorgaben!D26 -> aufgelegt | G27: =Vorgaben!E26 -> 8 | H27: =Vorgaben!F26 -> 2
A28: =Vorgaben!B39 -> 52445 Titz-Rödingen | D28: =Vorgaben!B27 -> H Pistole LP | E28: =Vorgaben!C27 -> >16 | F28: =Vorgaben!D27 -> Freihand | G28: =Vorgaben!E27 -> 8 | H28: =Vorgaben!F27 -> 2
D29: =Vorgaben!B28 -> R Rudi-Kleefisch LG | E29: =Vorgaben!C28 -> offen | F29: =Vorgaben!D28 -> aufgelegt | G29: =Vorgaben!E28 -> 8 | H29: =Vorgaben!F28 -> 2
A31: Verein | F31: gemeldet | H31: Gesamt-
F32: von | H32: Startgeld
H33: =IF(SUM(H37:H64), SUM(H37:H64),"")
H35: Organsiator-Notizen
A36: Nr. | B36: Klasse (Buchstabe) | C36: Vorname, Name | F36: Datum | G36: Uhrzeit | H36: Startgeld | I36: StartNr
A37: 1 | H37: =IF(B37<>"",VLOOKUP(B37,$D$22:$H$30,5),"")
A38: 2 | H38: =IF(B38<>"",VLOOKUP(B38,$D$22:$H$30,5),"")
A39: 3 | H39: =IF(B39<>"",VLOOKUP(B39,$D$22:$H$30,5),"")
A40: 4 | H40: =IF(B40<>"",VLOOKUP(B40,$D$22:$H$30,5),"")
A41: 5 | H41: =IF(B41<>"",VLOOKUP(B41,$D$22:$H$30,5),"")
A42: 6 | H42: =IF(B42<>"",VLOOKUP(B42,$D$22:$H$30,5),"")
A43: 7 | H43: =IF(B43<>"",VLOOKUP(B43,$D$22:$H$30,5),"")
A44: 8 | H44: =IF(B44<>"",VLOOKUP(B44,$D$22:$H$30,5),"")
...
